BEGIN:VCALENDAR
VERSION:2.0
PRODID:nkc_event TYPO3 Extension
METHOD:PUBLISH
BEGIN:VEVENT
UID:6dda51f1141a829dbd1d90556da4b3d7
LOCATION:Hl Dreieinigkeitskirche (St. Georgskirche)
SUMMARY:This is me! - Queer und religiös? - Interreligiöse Podiumsdiskussion
DESCRIPTION:Populistische Stimmen zum Thema Queerness und Religion sind oft laut und schrill. Diese Veranstaltung soll anders sein. Wir wollen einen wissenschaftlichen Blick auf das Thema gewinnen. Dazu haben wir drei hochkarätige Fachleute eingeladen. Sie geben uns tiefergehende Einblicke in den Umgang mit dem Thema Queer in Islam\, Juden- und Christentum. Nach Impulsreferaten ist das Publikum zur Diskussion eingeladen.Alle Infos rund um die Ausstellung erhalten Sie hier
CLASS:PUBLIC
DTSTART:20260610T170000Z
DTEND:20260610T180000Z
DTSTAMP:20260425T144000Z
END:VEVENT

END:VCALENDAR