BEGIN:VCALENDAR
VERSION:2.0
PRODID:nkc_event TYPO3 Extension
METHOD:PUBLISH
BEGIN:VEVENT
UID:9a446de4bd7ec59367dc372d3a1088fc
LOCATION:St. Claren
SUMMARY:Freiluftgottesdienst zu Christi Himmelfahrt im Pastoratsgarten\, Pastorin Anja Haustein
DESCRIPTION:
CLASS:PUBLIC
DTSTART:20260514T090000Z
DTEND:20260514T100000Z
DTSTAMP:20260422T123426Z
END:VEVENT

END:VCALENDAR