BEGIN:VCALENDAR
VERSION:2.0
PRODID:nkc_event TYPO3 Extension
METHOD:PUBLISH
BEGIN:VEVENT
UID:2fb8ae22f3ad045473ee1f942b6239c8
LOCATION:Kapelle St. Josef
SUMMARY:Eucharistische Anbetung
DESCRIPTION:
CLASS:PUBLIC
DTSTART:20260428T150000Z
DTEND:20260428T160000Z
DTSTAMP:20260422T120835Z
END:VEVENT

END:VCALENDAR