BEGIN:VCALENDAR
VERSION:2.0
PRODID:nkc_event TYPO3 Extension
METHOD:PUBLISH
BEGIN:VEVENT
UID:42cce704e5b369fe3ecea8bd4aa81029
LOCATION:Friedenskirche
SUMMARY:„Der rote Faden“ Gottesdienst mit dem Chor der Friedenskirche
DESCRIPTION:
CLASS:PUBLIC
DTSTART:20260621T080000Z
DTEND:20260621T090000Z
DTSTAMP:20260421T193503Z
END:VEVENT

END:VCALENDAR