BEGIN:VCALENDAR
VERSION:2.0
PRODID:nkc_event TYPO3 Extension
METHOD:PUBLISH
BEGIN:VEVENT
UID:6978c9429eb4415b0f8ceb7a5750d5bd
LOCATION:Jubilate-Kirche
SUMMARY:Schreibwerkstatt":" Ich bin Passion
DESCRIPTION:Leidenschaft und Begeisterung\, Hingabe und Ekstase\, Leid\, Schmerz\, Zweifel und Angst – all diese Begriffe lassen sich mit dem einen Wort „Passion“ in Verbindung bringen. An diesem Abend wollen wir mit Zugängen des Kreativen Schreibens unserer eigenen Passion auf die Spur kommen. Dabei lassen wir uns inspirieren von ausgewählten Kunstwerken aus der gleichzeitig stattfindenden Ausstellung in der Jubilate Kirche. Es entstehen Collagen des Augenblicks\, Minimalgedichte\, Wasserstandsmeldungen\, persönliche Listen oder Erzählminiaturen. Und weil Kreatives Schreiben immer spontan und ungeplant entsteht\, gibt es kein richtig oder falsch\, gut oder schlecht. Vorerfahrungen mit dem Schreiben sind nicht erforderlich. Die Schreibwerkstatt wird geleitet von Pastorin\, Erzählerin und Autorin Claudia Süssenbach.Die Veranstaltung ist Teil des Projektes DQUOTEIch bin PassionDQUOTE in den Kirchengemeinden Schiffbek-Öjendorf\, Horn und Philippus-Rimbert.
CLASS:PUBLIC
DTSTART:20250410T173000Z
DTEND:20250410T183000Z
DTSTAMP:20260422T114644Z
END:VEVENT

END:VCALENDAR