BEGIN:VCALENDAR
VERSION:2.0
PRODID:nkc_event TYPO3 Extension
METHOD:PUBLISH
BEGIN:VEVENT
UID:07d315ff3b72d7cfcae1e4d915b8d13e
LOCATION:St. Marien Sörup
SUMMARY:Choralblasen vom Kirchturm und DQUOTEMehrDQUOTE
DESCRIPTION:Jeden Sonnabend um 15 Uhr treffen wir uns am Kirchturm\, hören einen Choral\, Texte und DQUOTEMehrDQUOTE. Bei schlechtem Wetter nutzen wir den Kirchenraum. Herzliche Willkommen! Christiane Klang
CLASS:PUBLIC
DTSTART:20260606T130000Z
DTEND:20260606T140000Z
DTSTAMP:20260424T122419Z
END:VEVENT

END:VCALENDAR