BEGIN:VCALENDAR
VERSION:2.0
PRODID:nkc_event TYPO3 Extension
METHOD:PUBLISH
BEGIN:VEVENT
UID:2abfd7733393808cff09b266fb7adb94
LOCATION:Dom zu Lübeck
SUMMARY:Kirchenmusikfest":" Singalog - Mozart":" DQUOTERequiemDQUOTE
DESCRIPTION:Alle Infos zum Kirchenmusikfest findet ihr HIER 
CLASS:PUBLIC
DTSTART:20260619T183000Z
DTEND:20260619T193000Z
DTSTAMP:20260419T151817Z
END:VEVENT

END:VCALENDAR