BEGIN:VCALENDAR
VERSION:2.0
PRODID:nkc_event TYPO3 Extension
METHOD:PUBLISH
BEGIN:VEVENT
UID:beacaf5d25d7ebb4430926f3660c5031
LOCATION:Ansgarwiese Haddeby
SUMMARY:Gottesdienst zum Welterbe-Tag
DESCRIPTION:
CLASS:PUBLIC
DTSTART:20260607T080000Z
DTEND:20260607T090000Z
DTSTAMP:20260422T014732Z
END:VEVENT

END:VCALENDAR