BEGIN:VCALENDAR
VERSION:2.0
PRODID:nkc_event TYPO3 Extension
METHOD:PUBLISH
BEGIN:VEVENT
UID:4a0126a61a577ca0003caa68df0ea6e3
LOCATION:Ev.-Luth. Kirchengemeinde Westerrönfeld
SUMMARY:Altenkreis & Seniorengeburtstagsfeier
DESCRIPTION:Der Altenkreis trifft sich regelmäßig in der Lutherkiche zu festen Terminen.Außerdem gibt es noch besondere Termine\, wie das Osterfrühstück\, Spargelessen\, Sommerfest und Weihnachtsfeier.Bei uns steht die Gemeinschaft im Vordergrund. Wir freuen uns immer über neue Mitglieder!Ansprechpartnerin ist Angela Janiak\; Telefon 04331-80720.
CLASS:PUBLIC
DTSTART:20260617T123000Z
DTEND:20260617T143000Z
DTSTAMP:20260425T151450Z
END:VEVENT

END:VCALENDAR