BEGIN:VCALENDAR
VERSION:2.0
PRODID:nkc_event TYPO3 Extension
METHOD:PUBLISH
BEGIN:VEVENT
UID:564197200e7c079904f7b97a1089dfed
LOCATION:Paul-Gerhardt-Kirche
SUMMARY:Kirchengemeinderat
DESCRIPTION:Die Sitzungen des Kirchengemeinderats sind in der Regel öffentlich. Kommen Sie gerne vorbei!
CLASS:PUBLIC
DTSTART:20261008T173000Z
DTEND:20261008T200000Z
DTSTAMP:20260425T112814Z
END:VEVENT

END:VCALENDAR