BEGIN:VCALENDAR
VERSION:2.0
PRODID:nkc_event TYPO3 Extension
METHOD:PUBLISH
BEGIN:VEVENT
UID:1506e3a897a4fae11825339642198dc1
LOCATION:St. Marien
SUMMARY:Friedensgebet mit der Versöhnungslitanei aus Coventry\, mit anschließender Kirchenführung
DESCRIPTION:St. Marien ist seit 1971 Nagelkreuzzenrum. Die Worte der Versöhnungslitanei verbinden die Menschen\, die sich für Frieden\, Versöhnung und Bewahrung der Schöpfung einsetzen.
CLASS:PUBLIC
DTSTART:20260424T100000Z
DTEND:20260424T110000Z
DTSTAMP:20260423T144620Z
END:VEVENT

END:VCALENDAR