BEGIN:VCALENDAR
VERSION:2.0
PRODID:nkc_event TYPO3 Extension
METHOD:PUBLISH
BEGIN:VEVENT
UID:76ab7a7f21b38c391c533efd003ef541
LOCATION:St.-Laurentius-Kirche Schönberg
SUMMARY:40. Schönberger Musiksommer - Festgottesdienst
DESCRIPTION:Wenn es etwas zu feiern gibt\, dann sollte auch gefeiert werden! Die Schönberger Kirchengemeinde tut es mit dem Festgottesdienst zum 40. Schönberger Musiksommer und einem fröhlichen Kirchplatzfest. Denn beides gehört zusammen":" Lob und Dank\, Andacht und ein gutes Wort und vor allem Musik\, aber dann auch Essen und Trinken\, Spiel und Spaß\, Beisammensein\, Erzählen\, Bummeln… Liebe Gäste stellen sich ein":" Bischof Tilman Jeremias wird uns eine Festpredigt halten\, der Domchor unserer Partnerstadt wird allein\, aber auch gemeinsam mit dem hauseigenen Chor im Gottesdienst singen\, beide Orgeln erklingen\, wir werden Grußworte hören\, Kuchen essen und Lieder singen\, den Kirchturm erkunden\, Cocktails genießen – für jede und jeden ist etwas dabei!
CLASS:PUBLIC
DTSTART:20260628T120000Z
DTEND:20260628T130000Z
DTSTAMP:20260419T145337Z
END:VEVENT

END:VCALENDAR