BEGIN:VCALENDAR
VERSION:2.0
PRODID:nkc_event TYPO3 Extension
METHOD:PUBLISH
BEGIN:VEVENT
UID:122520cf239b241c5be99003374a15b6
LOCATION:Treffpunkt Rathaus Schleswig
SUMMARY:Women Walk
DESCRIPTION:Am 01.Oktober 2025 um 17":"00 Uhr startet das regionale Bündnis Frau mit den Schleswiger „Woman Walk“.„Women`s Walks“ sind in vielen Städten weltweit ein beliebtes Format\, um Frauen in einer lockeren Atmosphäre zu vernetzen\, Gemeinschaft zu fördern und Bewegung in den Alltag zu integrieren. Jetzt gibt es diese Möglichkeit auch in Schleswig. Ob frau einfach Lust auf ein bisschen Bewegung an der frischen Luft hat\, Gemeinschaft erleben\, Kontakte knüpfen und oder sich mit anderen austauschen möchte – ganz egal – jede ist herzlich willkommen sich für ca. eine Stunde gemeinsam auf den Weg zu machen.Der „Women Walk“ findet jeden 1. Mittwoch im Monat um 17":"00 Uhr statt. Treffpunkt ist das Schleswiger Rathaus\, Rathausmarkt 1. Die Teilnahme ist kostenlos und ohne Abmeldung. Einfach vorbei kommen und mitgehen.Bei Unwetter entfällt die Veranstaltung.Noch Fragen? Dann melden Sie sich gerne bei mir\, Claudia Niklas-Reeps im Frauenwerk\, Tel.04642-9111-29 oder bei der Gleichstellungsbeauftragten der Stadt Schleswig\, Andrea Cunow":" Tel":". 04621 – 814150 \, E Mail":" gleichstellung@schleswig.de
CLASS:PUBLIC
DTSTART:20260506T150000Z
DTEND:20260506T160000Z
DTSTAMP:20260425T060049Z
END:VEVENT

END:VCALENDAR