BEGIN:VCALENDAR
VERSION:2.0
PRODID:nkc_event TYPO3 Extension
METHOD:PUBLISH
BEGIN:VEVENT
UID:9601c822b5974ba80ed9c6b8e190070a
LOCATION:Hof Ankersolt
SUMMARY:Himmelfahrt auf dem Hof Ankersolt
DESCRIPTION:Die Kirchengemeinden Satrup und Havetoft-Sieverstedt feiern gemeinsam Gottesdienst an Himmelfahrt unter freiem Himmel auf dem Hof Ankersolt mit Kinderprogramm und anschließendem Mitbringbuffet. Herzliche Einladung!
CLASS:PUBLIC
DTSTART:20260514T090000Z
DTEND:20260514T100000Z
DTSTAMP:20260425T124713Z
END:VEVENT

END:VCALENDAR