BEGIN:VCALENDAR
VERSION:2.0
PRODID:nkc_event TYPO3 Extension
METHOD:PUBLISH
BEGIN:VEVENT
UID:6f35cad66a22e4dfea491ac280af40d3
LOCATION:Kirche St. Johannis zu Hamburg-Eppendorf
SUMMARY:Johann Sebastian Bach":" Suiten für Violoncello solo I
DESCRIPTION:
CLASS:PUBLIC
DTSTART:20251025T160000Z
DTEND:20251025T170000Z
DTSTAMP:20260423T060337Z
END:VEVENT

END:VCALENDAR