BEGIN:VCALENDAR
VERSION:2.0
PRODID:nkc_event TYPO3 Extension
METHOD:PUBLISH
BEGIN:VEVENT
UID:b72ec3baa0fa6cc6e09f4c213160e435
LOCATION:St. Martin Kirche Steinbergkirche
SUMMARY:Festgottesdienst zur Konfirmation
DESCRIPTION:
CLASS:PUBLIC
DTSTART:20260426T090000Z
DTEND:20260426T100000Z
DTSTAMP:20260422T104935Z
END:VEVENT

END:VCALENDAR