BEGIN:VCALENDAR
VERSION:2.0
PRODID:nkc_event TYPO3 Extension
METHOD:PUBLISH
BEGIN:VEVENT
UID:7d679ff09efa2481137b0221ad6b067b
LOCATION:St.Laurentius-Kirche in Kosel
SUMMARY:Morgenlob
DESCRIPTION:
CLASS:PUBLIC
DTSTART:20260526T073000Z
DTEND:20260526T083000Z
DTSTAMP:20260426T031026Z
END:VEVENT

END:VCALENDAR