BEGIN:VCALENDAR
VERSION:2.0
PRODID:nkc_event TYPO3 Extension
METHOD:PUBLISH
BEGIN:VEVENT
UID:be407fb6d4b240b18665b588ac0dd7d7
LOCATION:Christkirche
SUMMARY:Anton Dvorak DQUOTEStabat MaterDQUOTE
DESCRIPTION:Sonntag\, 15. Oktober\, 17.00 Uhr\, ChristkircheAnton DvorakStabat MaterSolistenStadtkantorei RendsburgMitglieder der Kieler PhilharmonikerLeitung":" Volker LinhardtKarten zu 25\,-€/20\,-€/12\,-€ bei der Rendsburg-Information (VvK-Gebühr) Tel. 04331-6634566\, sowie online unter www.eventfrog.de/stadtkantorei
CLASS:PUBLIC
DTSTART:20261015T150000Z
DTEND:20261015T160000Z
DTSTAMP:20260425T184240Z
END:VEVENT

END:VCALENDAR