BEGIN:VCALENDAR
VERSION:2.0
PRODID:nkc_event TYPO3 Extension
METHOD:PUBLISH
BEGIN:VEVENT
UID:bee7972928ca242d7db1e74f0aded45c
LOCATION:Curauer Kirche
SUMMARY:Pfingstgottesdienst
DESCRIPTION:Sie sind herzlich willkommen!
CLASS:PUBLIC
DTSTART:20260524T080000Z
DTEND:20260524T090000Z
DTSTAMP:20260422T041124Z
END:VEVENT

END:VCALENDAR