BEGIN:VCALENDAR
VERSION:2.0
PRODID:nkc_event TYPO3 Extension
METHOD:PUBLISH
BEGIN:VEVENT
UID:6d533f308277c69db34ff4830b782bf8
LOCATION:Friedenskirche Flensburg Weiche
SUMMARY:Godi/Pn. Schulze-Kösterke
DESCRIPTION:
CLASS:PUBLIC
DTSTART:20260517T080000Z
DTEND:20260517T090000Z
DTSTAMP:20260424T135753Z
END:VEVENT

END:VCALENDAR