BEGIN:VCALENDAR
VERSION:2.0
PRODID:nkc_event TYPO3 Extension
METHOD:PUBLISH
BEGIN:VEVENT
UID:d67f17177d369f8cea29fa16b5ab58af
LOCATION:St. Anschar
SUMMARY:Maximal-Minimal
DESCRIPTION:
CLASS:PUBLIC
DTSTART:20250719T143000Z
DTEND:20250719T153000Z
DTSTAMP:20260423T102812Z
END:VEVENT

END:VCALENDAR