BEGIN:VCALENDAR
VERSION:2.0
PRODID:nkc_event TYPO3 Extension
METHOD:PUBLISH
BEGIN:VEVENT
UID:886ea27d36b7df5d512cb853548d446a
LOCATION:Ev.-Luth. Bugenhagen-Kirchengemeinde Neumünster
SUMMARY:Gottesdienst
DESCRIPTION:Wir feiern Gottesdienst mit Abendmahl (Traubensaft & Einzelkelche).
CLASS:PUBLIC
DTSTART:20250406T080000Z
DTEND:20250406T090000Z
DTSTAMP:20260425T231350Z
END:VEVENT

END:VCALENDAR