BEGIN:VCALENDAR
VERSION:2.0
PRODID:nkc_event TYPO3 Extension
METHOD:PUBLISH
BEGIN:VEVENT
UID:c9f0da37e6990b94f8315ef574e7eff5
LOCATION:Lutherhaus Kiel
SUMMARY:Luja-Kids
DESCRIPTION:
CLASS:PUBLIC
DTSTART:20260422T140000Z
DTEND:20260422T153000Z
DTSTAMP:20260422T013942Z
END:VEVENT

END:VCALENDAR