BEGIN:VCALENDAR
VERSION:2.0
PRODID:nkc_event TYPO3 Extension
METHOD:PUBLISH
BEGIN:VEVENT
UID:7f95304080ad65605f68832ed94f426b
LOCATION:Altes Pastorat
SUMMARY:Sankt Nikolai Flensburg":" Abendkirche - Lesung der Bibel im Alten Pastorat
DESCRIPTION:Am 3. Januar 2017 begann in St. Nikolai eine wöchentlich an jedem Dienstag fortlaufende Lesung der Bibel. Lektorinnen und Lektoren sind nicht nur die Mitglieder des Kirchengemeinderates und weitere Ehrenamtliche\, sondern auch Besucherinnen und Besucher\, die sich beteiligen möchten. Dauer der Lesungen etwa 30 Minuten. Interessierte\, Mitleser wie Zuhörer\, sind herzlich willkommen!
CLASS:PUBLIC
DTSTART:20260512T160000Z
DTEND:20260512T170000Z
DTSTAMP:20260422T123317Z
END:VEVENT

END:VCALENDAR