BEGIN:VCALENDAR
VERSION:2.0
PRODID:nkc_event TYPO3 Extension
METHOD:PUBLISH
BEGIN:VEVENT
UID:904070455d5b7a4be440beee79ea4f8d
LOCATION:Marienkirche Grundhof
SUMMARY:Grundhofer Orgelsommer
DESCRIPTION:Die Ev.-Luth. Kirchengemeinde Grundhof lädt ein zu einer Konzertreihe unter dem Titel Grundhofer Orgelsommer 2026.Heute hören Sie ein Orgelkonzert des Organisten Benjamin Krause (Hamburg/Groningen\, NL).Der Eintritt ist frei - es wird um eine Spende für die Kirchenmusik gebeten.
CLASS:PUBLIC
DTSTART:20260515T170000Z
DTEND:20260515T180000Z
DTSTAMP:20260422T120934Z
END:VEVENT

END:VCALENDAR