BEGIN:VCALENDAR
VERSION:2.0
PRODID:nkc_event TYPO3 Extension
METHOD:PUBLISH
BEGIN:VEVENT
UID:7ce6345a01c2d81f5a2c71f626c53d0e
LOCATION:Dom zu Lübeck
SUMMARY:Taizégottesdienst mit Pastorin Dorothea Fehring
DESCRIPTION:Meine Seele ist stille zu Gott\, der mir hilft. Abendgottesdienst mit Taizégesängen\, Zeit der Stille\, Gebet. Aktuelle Informationen zu allen Gottesdiensten finden Sie auf der Internetseite des Doms. 
CLASS:PUBLIC
DTSTART:20260626T180000Z
DTEND:20260626T190000Z
DTSTAMP:20260419T183252Z
END:VEVENT

END:VCALENDAR