BEGIN:VCALENDAR
VERSION:2.0
PRODID:nkc_event TYPO3 Extension
METHOD:PUBLISH
BEGIN:VEVENT
UID:db65d29fbff943a8b2bf3deee1ebecd1
LOCATION:Ev.-luth. Kirchengemeinde St. Johannis-Harvestehude
SUMMARY:Aufblick\, Ausblick\, Augenblick
DESCRIPTION:Wer einmal Hamburg von oben bewundern will\, kann dies bei dieser Gelegenheit tun. 
CLASS:PUBLIC
DTSTART:20250717T170000Z
DTEND:20250717T180000Z
DTSTAMP:20260420T231703Z
END:VEVENT

END:VCALENDAR