BEGIN:VCALENDAR
VERSION:2.0
PRODID:nkc_event TYPO3 Extension
METHOD:PUBLISH
BEGIN:VEVENT
UID:53902a68577f54d98ae184f3b347b71d
LOCATION:Kirche Handewitt
SUMMARY:Gottesdienst zur Einführung Anna Stieler
DESCRIPTION:anschließend laden wir ein zum gemütlichen Beisammensein
CLASS:PUBLIC
DTSTART:20260424T150000Z
DTEND:20260424T160000Z
DTSTAMP:20260423T141917Z
END:VEVENT

END:VCALENDAR