BEGIN:VCALENDAR
VERSION:2.0
PRODID:nkc_event TYPO3 Extension
METHOD:PUBLISH
BEGIN:VEVENT
UID:7589698566e3819f2789f407f50b78f8
LOCATION:Gemeindezentrum Dannewerk
SUMMARY:Freiluft-Gottesdienst (Christi Himmelfahrt) GMZ Dannewerk
DESCRIPTION:
CLASS:PUBLIC
DTSTART:20260514T090000Z
DTEND:20260514T100000Z
DTSTAMP:20260422T015422Z
END:VEVENT

END:VCALENDAR