BEGIN:VCALENDAR
VERSION:2.0
PRODID:nkc_event TYPO3 Extension
METHOD:PUBLISH
BEGIN:VEVENT
UID:b42165e8d91bbe98df222164fc0fa97c
LOCATION:Christus-Kirche Wahlstedt
SUMMARY:Gottesdienst\, Pastor Craig Schott
DESCRIPTION:
CLASS:PUBLIC
DTSTART:20260510T090000Z
DTEND:20260510T100000Z
DTSTAMP:20260423T141802Z
END:VEVENT

END:VCALENDAR