BEGIN:VCALENDAR
VERSION:2.0
PRODID:nkc_event TYPO3 Extension
METHOD:PUBLISH
BEGIN:VEVENT
UID:bf79b356cb1a5be2eef38501f780553e
LOCATION:St. Nikolai Kirche
SUMMARY:Sankt Nikolai Flensburg":" Turmführung mit Dörte Jurascheck
DESCRIPTION:
CLASS:PUBLIC
DTSTART:20260425T100000Z
DTEND:20260425T110000Z
DTSTAMP:20260422T123445Z
END:VEVENT

END:VCALENDAR