BEGIN:VCALENDAR
VERSION:2.0
PRODID:nkc_event TYPO3 Extension
METHOD:PUBLISH
BEGIN:VEVENT
UID:03da0a87341f51938d79b5d9060b0a6a
LOCATION:Hl Dreieinigkeitskirche (St. Georgskirche)
SUMMARY:Jazzchor der HfMT
DESCRIPTION:
CLASS:PUBLIC
DTSTART:20260506T170000Z
DTEND:20260506T180000Z
DTSTAMP:20260420T105516Z
END:VEVENT

END:VCALENDAR