BEGIN:VCALENDAR
VERSION:2.0
PRODID:nkc_event TYPO3 Extension
METHOD:PUBLISH
BEGIN:VEVENT
UID:e4ecfea127d8ef0a5a96e9bed68de576
LOCATION:Hauptkirche St. Jacobi
SUMMARY:Arp-Schnitger-Orgelführung
DESCRIPTION:
CLASS:PUBLIC
DTSTART:20260709T100000Z
DTEND:20260709T110000Z
DTSTAMP:20260421T124818Z
END:VEVENT

END:VCALENDAR