BEGIN:VCALENDAR
VERSION:2.0
PRODID:nkc_event TYPO3 Extension
METHOD:PUBLISH
BEGIN:VEVENT
UID:e588785f3670a32ff98945f48d66fba0
LOCATION:Hl Dreieinigkeitskirche (St. Georgskirche)
SUMMARY:Gottesdienst mit Abendmahl
DESCRIPTION:
CLASS:PUBLIC
DTSTART:20260607T080000Z
DTEND:20260607T090000Z
DTSTAMP:20260420T151932Z
END:VEVENT

END:VCALENDAR