BEGIN:VCALENDAR
VERSION:2.0
PRODID:nkc_event TYPO3 Extension
METHOD:PUBLISH
BEGIN:VEVENT
UID:45226f59814e28f65af6f7f4bb3588a9
LOCATION:Alfried Krupp Wissenschaftskolleg
SUMMARY:Symposium ad infinitum
DESCRIPTION:Programm 14 Uhr bis 17.30 Uhr":" \nMit Bach – zum Unendlichen. Die Greifswalder Bachwoche als VerkündigungPD Dr. Tilmann Beyrich (Pastor am Dom St. Nikolai\, Greifswald)\nBibers MysteriensonatenGeorg Kallweit (Geiger/Urban Strings\, Melzow/Uckermark) \nPAUSE\nAlles außer altbacken. Bachs Choralbegriff Dr. Christine Blanken (Musikwissenschaftlerin und Kirchenmusikerin\, Bach-Archiv Leipzig)\nBach in my music":" Overcoming our distance of time and space in a composer‘s perspectiveGespräch mit der Komponistin Professorin Dr. Larisa Vrhunc\nKonzept\, Leitung\, Moderation":" PD Dr. Simone Heilgendorff\, GreifswaldDas Symposium lädt dazu ein\, die unbegrenzten Dimensionen der Musik Bachs und seines Zeitgenossen Heinrich Ignaz Franz Biber zu erkunden. Aspekte wie Unendlichkeit\, das Schweben zwischen „noch nicht“ und „nicht mehr Sagbarem“ sowie die Vielschichtigkeit von Bachs Werk stehen im Zentrum von Vorträgen und Diskussionen\, die Perspektiven aus Musikwissenschaft\, Musikpädagogik\, Theologie und künstlerischer Praxis vereinen. Sie werden durch einen theologisch verankerten Blick auf 80 Jahre Geschichte der Bachwoche ergänzt.Eine Kooperation der Greifswalder Bachwoche mit dem Institut für Kirchenmusik und Musikwissenschaft der Universität Greifswald und dem Alfried Krupp WissenschaftskollegAnmeldung ist erwünscht.
CLASS:PUBLIC
DTSTART:20260605T120000Z
DTEND:20260605T130000Z
DTSTAMP:20260425T144014Z
END:VEVENT

END:VCALENDAR