BEGIN:VCALENDAR
VERSION:2.0
PRODID:nkc_event TYPO3 Extension
METHOD:PUBLISH
BEGIN:VEVENT
UID:bff2f752966be6a83b74a39da31c10f2
LOCATION:Friedenskirche Flensburg Weiche
SUMMARY:Godi/P. Rönndahl/Kirchencafé
DESCRIPTION:
CLASS:PUBLIC
DTSTART:20260503T080000Z
DTEND:20260503T090000Z
DTSTAMP:20260424T140828Z
END:VEVENT

END:VCALENDAR