BEGIN:VCALENDAR
VERSION:2.0
PRODID:nkc_event TYPO3 Extension
METHOD:PUBLISH
BEGIN:VEVENT
UID:926ee858e76d275a4d7900d2b274633a
LOCATION:St. Ansgar-Haus 
SUMMARY:Damit der Funke überspringt… Wissen lebendig vermitteln
DESCRIPTION:Präsenz-Seminar für Multiplikator*innen\, die im Bereich Globales Lernen\, Bildung für nachhaltige Entwicklung und transformative Bildung tätig sind.In diesem Seminar erhältst du nicht nur spannende Einblicke in die Lernpsychologie\, sondern auch umfangreiches methodisches Handwerkszeug\, mit dem du deine Bildungsveranstaltungen lebendig und abwechslungsreich gestalten kannst.Auf der Basis von Erkenntnissen aus der Hirnforschung gehen wir gemeinsam der Frage nach\, wie Lernen nicht nur effektiv\, sondern auch mit Spaß und Leichtigkeit gelingen kann.Ob Inhalte verstanden\, langfristig erinnert und im Alltag umgesetzt werden\, hängt maßgeblich davon ab\, wie der Lernprozess gestaltet wird. Damit der Funke überspringt\, reicht es meist nicht aus\, das eigene Fachwissen sachlich vorzutragen. Erst der regelmäßige Wechsel der Lernformen\, die Einbeziehung aller Sinne und die aktive Beteiligung der Teilnehmenden führen zu wirklichem Verstehen und Behalten.So verschieden wir Menschen sind\, so unterschiedlich ist auch unsere Art zu lernen. Zentraler Bestandteil des Seminars sind deshalb interaktive Methoden für die verschiedenen Phasen einer Bildungsveranstaltung\, die es ermöglichen\, alle Lerntypen und Lernstile gleichermaßen anzusprechen.Du erhältst ein breites Repertoire an Methoden und Anregungen\, die du direkt auf deine eigenen Themen und Zielgruppen anwenden kannst - und nimmst auch ein paar Ideen mit\, wie du generative KI als zusätzlichen Baustein kreativ im Seminarraum nutzen kannst.
CLASS:PUBLIC
DTSTART:20260423T160000Z
DTEND:20260426T111500Z
DTSTAMP:20260423T181004Z
END:VEVENT

END:VCALENDAR