BEGIN:VCALENDAR
VERSION:2.0
PRODID:nkc_event TYPO3 Extension
METHOD:PUBLISH
BEGIN:VEVENT
UID:3f4767ef1bdecb987cf3846068ea1d59
LOCATION:Dom zu Lübeck
SUMMARY:»a und Oh!«. Lübecker Orgelsommer im Dom
DESCRIPTION:Orgelwerke in a-Moll von Johann Sebastian Bach\, Johannes Brahms\, Johann Jacob Froberger\, August Gottfried Ritter u. a. 
CLASS:PUBLIC
DTSTART:20260816T140000Z
DTEND:20260816T150000Z
DTSTAMP:20260425T161649Z
END:VEVENT

END:VCALENDAR