BEGIN:VCALENDAR
VERSION:2.0
PRODID:nkc_event TYPO3 Extension
METHOD:PUBLISH
BEGIN:VEVENT
UID:a0c335fab01fa67a8ce07d26f348a307
LOCATION:Gemeindehaus II
SUMMARY:ABENTEUERLAND
DESCRIPTION:
CLASS:PUBLIC
DTSTART:20260828T133000Z
DTEND:20260828T143000Z
DTSTAMP:20260425T112146Z
END:VEVENT

END:VCALENDAR