BEGIN:VCALENDAR
VERSION:2.0
PRODID:nkc_event TYPO3 Extension
METHOD:PUBLISH
BEGIN:VEVENT
UID:72e254805effe223c94e38ed22705475
LOCATION:Christus-Kirche Wahlstedt
SUMMARY:Gottesdienst \, Pastor Kristoffersen
DESCRIPTION:
CLASS:PUBLIC
DTSTART:20260503T090000Z
DTEND:20260503T100000Z
DTSTAMP:20260423T141759Z
END:VEVENT

END:VCALENDAR