BEGIN:VCALENDAR
VERSION:2.0
PRODID:nkc_event TYPO3 Extension
METHOD:PUBLISH
BEGIN:VEVENT
UID:72202227e233e5e5f8800225435fa70e
LOCATION:St. Gabriel
SUMMARY:Familiengottesdienst mit Abendmahl
DESCRIPTION:Leitung":" Prädikantin Susanne Blessenohl KiGo-Sonntag-Team(Palmsonntag)Jesus zieht in Jerusalem ein! Hosianna! – Die Kirche ist festlich geschmückt und die Gemeinde zieht mit Palmenzweigen in der Hand in die Kirche ein.An Palmsonntag feiern wir\, der liebgewonnenen Tradition folgend\, einen festlichen Familiengottesdienst.
CLASS:PUBLIC
DTSTART:20260329T090000Z
DTEND:20260329T100000Z
DTSTAMP:20260420T091400Z
END:VEVENT

END:VCALENDAR