BEGIN:VCALENDAR
VERSION:2.0
PRODID:nkc_event TYPO3 Extension
METHOD:PUBLISH
BEGIN:VEVENT
UID:190a45d17a23703178c1e2dc8d39cb82
LOCATION:Ev.-Luth. Bugenhagen-Kirchengemeinde Neumünster
SUMMARY:Band
DESCRIPTION:First Choice verbindet bekannte Songs aus Pop\, Rock und verwandten Stilrichtungen mit einem feinen Gespür für Atmosphäre und musikalische Qualität.Entstanden ist die Band 2013 auf Wunsch eines Konfirmanden. Heute begleitet sie regelmäßig größere Gottesdienste und besondere Veranstaltungen der Kirche mit moderner Musik. Über die Jahre hat sich die Band auch außerhalb der Kirche ein musikalisches Standbein aufgebaut und tritt bei Stadtfesten\, Kulturveranstaltungen und anderen Events in der Region auf. Gleichzeitig bleibt die Verbindung zur Gemeinde ein wichtiger Teil der Bandgeschichte.Du interessierst dich für Musik und spielst selbst vielleicht ein Instrument? Dann schau einfach mal bei den Proben unserer Band vorbei und lern` die Band kennen. 
CLASS:PUBLIC
DTSTART:20260507T154500Z
DTEND:20260507T171500Z
DTSTAMP:20260423T124255Z
END:VEVENT

END:VCALENDAR