BEGIN:VCALENDAR
VERSION:2.0
PRODID:nkc_event TYPO3 Extension
METHOD:PUBLISH
BEGIN:VEVENT
UID:b5cdcdb57e492a985e32b7a97cd58b0b
LOCATION:Gemeindehaus II
SUMMARY:ABENTEUERLAND
DESCRIPTION:
CLASS:PUBLIC
DTSTART:20260703T133000Z
DTEND:20260703T143000Z
DTSTAMP:20260425T112100Z
END:VEVENT

END:VCALENDAR