BEGIN:VCALENDAR
VERSION:2.0
PRODID:nkc_event TYPO3 Extension
METHOD:PUBLISH
BEGIN:VEVENT
UID:2db288a0d1ab9f3476b6242966a1717d
LOCATION:Christkirche
SUMMARY:NeukwerkerLichtNacht - Dein Gottesdienst. Thema":" Wut wird Mut
DESCRIPTION:Wut hat keinen guten Ruf. Ich denke sofort an „blinde Wut“ und „Wutbürger“.  Aber es gibt auch eine heilsame Wut. Eine Wut\, die uns zum Guten treibt.Dass aus Wut Mut werden kann\, davon wollen wir erzählen. Herzlich willkommen zur NeuwerkerLichtNacht!Wir räumen wieder die Sessel in die Kirche\, machen das Licht an und freuen uns mit euch auf Sabrina Brammer und Marius Branscheidt\, die uns mit Liedern von Silbermond\, den Scorpions\, Alexa Feser\, Coldplay und anderen begeistern werden. Die Türen der Christkirche sind ab 20":"00 Uhr geöffnet. Seid ihr dabei? 
CLASS:PUBLIC
DTSTART:20251017T183000Z
DTEND:20251017T193000Z
DTSTAMP:20260425T185559Z
END:VEVENT

END:VCALENDAR