BEGIN:VCALENDAR
VERSION:2.0
PRODID:nkc_event TYPO3 Extension
METHOD:PUBLISH
BEGIN:VEVENT
UID:1cac56ec471952fd7b9d72d79a145a32
LOCATION:Ansgarhaus Busdorf
SUMMARY:Lektorenkreis
DESCRIPTION:
CLASS:PUBLIC
DTSTART:20260428T173000Z
DTEND:20260428T183000Z
DTSTAMP:20260422T015939Z
END:VEVENT

END:VCALENDAR