BEGIN:VCALENDAR
VERSION:2.0
PRODID:nkc_event TYPO3 Extension
METHOD:PUBLISH
BEGIN:VEVENT
UID:d4b7ab56edf5c26d1a87c304925c6e98
LOCATION:Marienkirche Havetoft
SUMMARY:Konfirmationsgottesdienst in Havetoft
DESCRIPTION:
CLASS:PUBLIC
DTSTART:20260426T080000Z
DTEND:20260426T090000Z
DTSTAMP:20260425T125513Z
END:VEVENT

END:VCALENDAR