BEGIN:VCALENDAR
VERSION:2.0
PRODID:nkc_event TYPO3 Extension
METHOD:PUBLISH
BEGIN:VEVENT
UID:5a2531e79d6849a167e57538db2029ab
LOCATION:Dreifaltigkeitskirche
SUMMARY:Gottesdienst parallel mit Kinderkirche
DESCRIPTION:
CLASS:PUBLIC
DTSTART:20260322T090000Z
DTEND:20260322T100000Z
DTSTAMP:20260422T105744Z
END:VEVENT

END:VCALENDAR