BEGIN:VCALENDAR
VERSION:2.0
PRODID:nkc_event TYPO3 Extension
METHOD:PUBLISH
BEGIN:VEVENT
UID:1ef5b2bbbab661c041f27f286f62c0a5
LOCATION:Gemeindehaus II
SUMMARY:ABENTEUERLAND
DESCRIPTION:
CLASS:PUBLIC
DTSTART:20260717T133000Z
DTEND:20260717T143000Z
DTSTAMP:20260425T112156Z
END:VEVENT

END:VCALENDAR