BEGIN:VCALENDAR
VERSION:2.0
PRODID:nkc_event TYPO3 Extension
METHOD:PUBLISH
BEGIN:VEVENT
UID:24b7e5212b0c49e1636c35d5a61ce5d7
LOCATION:St. Andreas Kirche Haddeby
SUMMARY:Gottesdienst (Rogate)
DESCRIPTION:
CLASS:PUBLIC
DTSTART:20260510T080000Z
DTEND:20260510T090000Z
DTSTAMP:20260422T013821Z
END:VEVENT

END:VCALENDAR