BEGIN:VCALENDAR
VERSION:2.0
PRODID:nkc_event TYPO3 Extension
METHOD:PUBLISH
BEGIN:VEVENT
UID:710d1a1e5e9588c7886141bfb9906a42
LOCATION:Marienkirche Havetoft
SUMMARY:Gottesdienst Havetoft
DESCRIPTION:
CLASS:PUBLIC
DTSTART:20260531T073000Z
DTEND:20260531T083000Z
DTSTAMP:20260425T130734Z
END:VEVENT

END:VCALENDAR